BEGIN:VCALENDAR
VERSION:2.0
PRODID:-//ChurchDev//Events//EN
CALSCALE:GREGORIAN
METHOD:PUBLISH
BEGIN:VEVENT
UID:4219-20260410@www.rioregen.church
SUMMARY:Women of Joy Conference
DTSTART;VALUE=DATE:20260410
DTEND;VALUE=DATE:20260411
DESCRIPTION:https://www.rioregen.church/events/women-of-joy-conference-3/
LOCATION:2342 Duncan Rd. Maryville\, TN 37803
URL:https://www.rioregen.church/events/women-of-joy-conference-3/
DTSTAMP:20260419T213625Z
END:VEVENT
END:VCALENDAR
