BEGIN:VCALENDAR
VERSION:2.0
PRODID:-//ChurchDev//Events//EN
CALSCALE:GREGORIAN
METHOD:PUBLISH
BEGIN:VEVENT
UID:4221-20260412@www.rioregen.church
SUMMARY:Women of Joy Conference
DTSTART;VALUE=DATE:20260412
DTEND;VALUE=DATE:20260413
DESCRIPTION:https://www.rioregen.church/events/women-of-joy-conference/
LOCATION:2342 Duncan Rd. Maryville\, TN 37803
URL:https://www.rioregen.church/events/women-of-joy-conference/
DTSTAMP:20260419T213734Z
END:VEVENT
END:VCALENDAR
