BEGIN:VCALENDAR
VERSION:2.0
PRODID:-//ChurchDev//Events//EN
CALSCALE:GREGORIAN
METHOD:PUBLISH
BEGIN:VEVENT
UID:4223-20260418@www.rioregen.church
SUMMARY:Men&#8217\;s Camping Trip
DTSTART;VALUE=DATE:20260418
DTEND;VALUE=DATE:20260419
DESCRIPTION:https://www.rioregen.church/events/mens-camping-trip-2/
LOCATION:2342 Duncan Rd. Maryville\, TN 37803
URL:https://www.rioregen.church/events/mens-camping-trip-2/
DTSTAMP:20260419T213642Z
END:VEVENT
END:VCALENDAR
