BEGIN:VCALENDAR
VERSION:2.0
PRODID:-//ChurchDev//Events//EN
CALSCALE:GREGORIAN
METHOD:PUBLISH
BEGIN:VEVENT
UID:4224-20260419@www.rioregen.church
SUMMARY:Men&#8217\;s Camping Trip
DTSTART;VALUE=DATE:20260419
DTEND;VALUE=DATE:20260420
DESCRIPTION:https://www.rioregen.church/events/mens-camping-trip/
LOCATION:2342 Duncan Rd. Maryville\, TN 37803
URL:https://www.rioregen.church/events/mens-camping-trip/
DTSTAMP:20260419T213625Z
END:VEVENT
END:VCALENDAR
