BEGIN:VCALENDAR
VERSION:2.0
PRODID:-//ChurchDev//Events//EN
CALSCALE:GREGORIAN
METHOD:PUBLISH
BEGIN:VEVENT
UID:4227-20260418@www.rioregen.church
SUMMARY:RIO Network Ladies Conference
DTSTART;VALUE=DATE:20260418
DTEND;VALUE=DATE:20260419
DESCRIPTION:https://www.rioregen.church/events/rio-network-ladies-conference/
LOCATION:2342 Duncan Rd. Maryville\, TN 37803
URL:https://www.rioregen.church/events/rio-network-ladies-conference/
DTSTAMP:20260419T213539Z
END:VEVENT
END:VCALENDAR
