BEGIN:VCALENDAR
VERSION:2.0
PRODID:-//ChurchDev//Events//EN
CALSCALE:GREGORIAN
METHOD:PUBLISH
BEGIN:VEVENT
UID:4241-20260328@www.rioregen.church
SUMMARY:FORGE
DTSTART:20260328T133000Z
DTEND:20260328T143000Z
DESCRIPTION:https://www.rioregen.church/events/forge/
LOCATION:2342 Duncan Rd. Maryville\, TN 37803
URL:https://www.rioregen.church/events/forge/
DTSTAMP:20260419T213630Z
END:VEVENT
END:VCALENDAR
