BEGIN:VCALENDAR
VERSION:2.0
PRODID:-//ChurchDev//Events//EN
CALSCALE:GREGORIAN
METHOD:PUBLISH
BEGIN:VEVENT
UID:4243-20260324@www.rioregen.church
SUMMARY:Ladies 52 Week Bible Study &#8211\; Alternates between Tuesday &#038\; Thursday Evening
DTSTART:20260324T223000Z
DTEND:20260324T233000Z
DESCRIPTION:https://www.rioregen.church/events/ladies-52-week-bible-study-alternates-between-tuesday-thursday-evening/
LOCATION:2342 Duncan Rd. Maryville\, TN 37803
URL:https://www.rioregen.church/events/ladies-52-week-bible-study-alternates-between-tuesday-thursday-evening/
DTSTAMP:20260419T213734Z
END:VEVENT
END:VCALENDAR
